BEGIN:VCALENDAR
VERSION:2.0
PRODID:-//SDIAA - ECPv6.15.20//NONSGML v1.0//EN
CALSCALE:GREGORIAN
METHOD:PUBLISH
X-WR-CALNAME:SDIAA
X-ORIGINAL-URL:https://staging.sdiaa.org
X-WR-CALDESC:Events for SDIAA
REFRESH-INTERVAL;VALUE=DURATION:PT1H
X-Robots-Tag:noindex
X-PUBLISHED-TTL:PT1H
BEGIN:VTIMEZONE
TZID:UTC
BEGIN:STANDARD
TZOFFSETFROM:+0000
TZOFFSETTO:+0000
TZNAME:UTC
DTSTART:20160101T000000
END:STANDARD
END:VTIMEZONE
BEGIN:VEVENT
DTSTART;TZID=UTC:20170601T150000
DTEND;TZID=UTC:20170601T190000
DTSTAMP:20260425T085646
CREATED:20170228T085632Z
LAST-MODIFIED:20170407T171722Z
UID:299-1496329200-1496343600@staging.sdiaa.org
SUMMARY:Xactimate Training
DESCRIPTION:Details				\n				\n		\n				\n							\n\n			\n						\n\n									\n						\n							DATE						\n					\n				\n									\n						May 07					 \n				\n			\n			\n		\n						\n				\n							\n\n			\n						\n\n									\n						\n							TIME						\n					\n				\n									\n						05:30 pm – 08:30 pm					 \n				\n			\n			\n		\n						\n				\n							\n\n			\n						\n\n									\n						\n							COST						\n					\n				\n									\n						Free – $399.00					 \n				\n			\n			\n		\n						\n				\n				\n		\n		\n				\n							\n			\n						\n		\n						\n				\n					Venue				\n				\n		\n				\n							\n\n			\n						\n\n									\n						\n							LOCATION						\n					\n				\n									\n						Rancho Bernardo Inn & Golf Course					 \n				\n			\n			\n		\n						\n				\n							\n\n			\n						\n\n									\n						\n							ADDRESS						\n					\n				\n									\n						McGregor’s Ale House\n10475 San Diego Mission Rd\nSan Diego\, CA 92108					 \n				\n			\n			\n		\n						\n				\n							\n\n			\n						\n\n									\n						\n							PHONE						\n					\n				\n									\n						888-976-4417					 \n				\n			\n			\n		\n						\n				\n							\n							\n											\n													\n										Google Maps\n									\n								\n											\n													\n										Visit Venue Website\n									\n						\n						\n				\n				\n		\n		\n				\n							\n			\n						\n		\n						\n				\n					Tickets				\n				\n		\n				\n				\n					\n				\n		\n					\n		\n				\n					Ready to grow your network and strengthen your place in the industry?				\n				\n									Join SDIAA and be part of a professional community that helps you stay connected\, informed\, and visible in the San Diego insurance world. 								\n				\n										\n						\n									Become a Member Today
URL:https://staging.sdiaa.org/event/xactimate-training/
LOCATION:Hilton Harbor\, 1960 Harbor Island Dr.\, CA\, 92101\, United States
CATEGORIES:Education
ATTACH;FMTTYPE=image/jpeg:https://staging.sdiaa.org/wp-content/uploads/2017/02/event_banner_xactimate.jpg
END:VEVENT
BEGIN:VEVENT
DTSTART;TZID=UTC:20170609T090000
DTEND;TZID=UTC:20170609T090000
DTSTAMP:20260425T085646
CREATED:20170227T130644Z
LAST-MODIFIED:20170329T125059Z
UID:223-1496998800-1496998800@staging.sdiaa.org
SUMMARY:2017 Golf Tournament
DESCRIPTION:Details				\n				\n		\n				\n							\n\n			\n						\n\n									\n						\n							DATE						\n					\n				\n									\n						May 07					 \n				\n			\n			\n		\n						\n				\n							\n\n			\n						\n\n									\n						\n							TIME						\n					\n				\n									\n						05:30 pm – 08:30 pm					 \n				\n			\n			\n		\n						\n				\n							\n\n			\n						\n\n									\n						\n							COST						\n					\n				\n									\n						Free – $399.00					 \n				\n			\n			\n		\n						\n				\n				\n		\n		\n				\n							\n			\n						\n		\n						\n				\n					Venue				\n				\n		\n				\n							\n\n			\n						\n\n									\n						\n							LOCATION						\n					\n				\n									\n						Rancho Bernardo Inn & Golf Course					 \n				\n			\n			\n		\n						\n				\n							\n\n			\n						\n\n									\n						\n							ADDRESS						\n					\n				\n									\n						McGregor’s Ale House\n10475 San Diego Mission Rd\nSan Diego\, CA 92108					 \n				\n			\n			\n		\n						\n				\n							\n\n			\n						\n\n									\n						\n							PHONE						\n					\n				\n									\n						888-976-4417					 \n				\n			\n			\n		\n						\n				\n							\n							\n											\n													\n										Google Maps\n									\n								\n											\n													\n										Visit Venue Website\n									\n						\n						\n				\n				\n		\n		\n				\n							\n			\n						\n		\n						\n				\n					Tickets				\n				\n		\n				\n				\n					\n				\n		\n					\n		\n				\n					Ready to grow your network and strengthen your place in the industry?				\n				\n									Join SDIAA and be part of a professional community that helps you stay connected\, informed\, and visible in the San Diego insurance world. 								\n				\n										\n						\n									Become a Member Today
URL:https://staging.sdiaa.org/event/2017-golf-tournament/
LOCATION:Twin Oaks Golf Course\, 1425 N Twin Oaks Valley Rd\, San Marcos\, CA\, 92069\, United States
CATEGORIES:Events
ATTACH;FMTTYPE=image/jpeg:https://staging.sdiaa.org/wp-content/uploads/2017/02/Event_2017_SDIAA_Golf-Tournament.jpg
END:VEVENT
END:VCALENDAR