BEGIN:VCALENDAR
VERSION:2.0
PRODID:-//SDIAA - ECPv6.15.20//NONSGML v1.0//EN
CALSCALE:GREGORIAN
METHOD:PUBLISH
X-ORIGINAL-URL:https://staging.sdiaa.org
X-WR-CALDESC:Events for SDIAA
REFRESH-INTERVAL;VALUE=DURATION:PT1H
X-Robots-Tag:noindex
X-PUBLISHED-TTL:PT1H
BEGIN:VTIMEZONE
TZID:America/Los_Angeles
BEGIN:DAYLIGHT
TZOFFSETFROM:-0800
TZOFFSETTO:-0700
TZNAME:PDT
DTSTART:20180311T100000
END:DAYLIGHT
BEGIN:STANDARD
TZOFFSETFROM:-0700
TZOFFSETTO:-0800
TZNAME:PST
DTSTART:20181104T090000
END:STANDARD
BEGIN:DAYLIGHT
TZOFFSETFROM:-0800
TZOFFSETTO:-0700
TZNAME:PDT
DTSTART:20190310T100000
END:DAYLIGHT
BEGIN:STANDARD
TZOFFSETFROM:-0700
TZOFFSETTO:-0800
TZNAME:PST
DTSTART:20191103T090000
END:STANDARD
BEGIN:DAYLIGHT
TZOFFSETFROM:-0800
TZOFFSETTO:-0700
TZNAME:PDT
DTSTART:20200308T100000
END:DAYLIGHT
BEGIN:STANDARD
TZOFFSETFROM:-0700
TZOFFSETTO:-0800
TZNAME:PST
DTSTART:20201101T090000
END:STANDARD
END:VTIMEZONE
BEGIN:VEVENT
DTSTART;TZID=America/Los_Angeles:20191204T173000
DTEND;TZID=America/Los_Angeles:20191204T213000
DTSTAMP:20260420T154634
CREATED:20191105T184729Z
LAST-MODIFIED:20191204T020342Z
UID:13159-1575480600-1575495000@staging.sdiaa.org
SUMMARY:Holiday Cruise on the Bahia Belle
DESCRIPTION:Details				\n				\n		\n				\n							\n\n			\n						\n\n									\n						\n							DATE						\n					\n				\n									\n						May 07					 \n				\n			\n			\n		\n						\n				\n							\n\n			\n						\n\n									\n						\n							TIME						\n					\n				\n									\n						05:30 pm – 08:30 pm					 \n				\n			\n			\n		\n						\n				\n							\n\n			\n						\n\n									\n						\n							COST						\n					\n				\n									\n						Free – $399.00					 \n				\n			\n			\n		\n						\n				\n				\n		\n		\n				\n							\n			\n						\n		\n						\n				\n					Venue				\n				\n		\n				\n							\n\n			\n						\n\n									\n						\n							LOCATION						\n					\n				\n									\n						Rancho Bernardo Inn & Golf Course					 \n				\n			\n			\n		\n						\n				\n							\n\n			\n						\n\n									\n						\n							ADDRESS						\n					\n				\n									\n						McGregor’s Ale House\n10475 San Diego Mission Rd\nSan Diego\, CA 92108					 \n				\n			\n			\n		\n						\n				\n							\n\n			\n						\n\n									\n						\n							PHONE						\n					\n				\n									\n						888-976-4417					 \n				\n			\n			\n		\n						\n				\n							\n							\n											\n													\n										Google Maps\n									\n								\n											\n													\n										Visit Venue Website\n									\n						\n						\n				\n				\n		\n		\n				\n							\n			\n						\n		\n						\n				\n					Tickets				\n				\n		\n				\n				\n					\n				\n		\n					\n		\n				\n					Ready to grow your network and strengthen your place in the industry?				\n				\n									Join SDIAA and be part of a professional community that helps you stay connected\, informed\, and visible in the San Diego insurance world. 								\n				\n										\n						\n									Become a Member Today
URL:https://staging.sdiaa.org/event/holiday-cruise-on-the-bahia-belle/
LOCATION:Bahia Resort Hotel\, 998 West Mission Bay Dr.\, San Diego\, CA\, 92109\, United States
CATEGORIES:Events
END:VEVENT
END:VCALENDAR